BEGIN:VCALENDAR
PRODID:-//eluceo/ical//2.0/EN
VERSION:2.0
CALSCALE:GREGORIAN
BEGIN:VEVENT
UID:d5c29cee91022a7940caa61246cf91cf
DTSTAMP:20260423T071614Z
SUMMARY:Dimensions in Testimony\, GenShoah Program
DESCRIPTION:Jewish Federation of Greater Naples\nCommunity Calendar\nhttps:
 //jewishnaples.org/calendar/dimensions-in-testimony-genshoah-program\n\nGe
 nShoah Program
DTSTART;TZID=America/New_York:20260203T190000
DTEND;TZID=America/New_York:20260203T210000
END:VEVENT
END:VCALENDAR
