BEGIN:VCALENDAR
PRODID:-//eluceo/ical//2.0/EN
VERSION:2.0
CALSCALE:GREGORIAN
BEGIN:VEVENT
UID:5676dd05a346f5fd6be4fb2ccec20f6a
DTSTAMP:20260422T044113Z
SUMMARY:Dance Event
DESCRIPTION:Jewish Federation of Greater Naples\nCommunity Calendar\nhttps:
 //jewishnaples.org/calendar/dance-event-1564146230\n\nMix and Mingle\, Wed
 .\, Aug. 21 at 6:30 PM\n﻿\nSwing dancing class & party\nWednesday\, Augu
 st 21 from 6:30-9:00 pm\n\nWhere: Allstar Dance Studio\, 4910 Tamiami Trai
 l North\, Suite 118\, in the same plaza as Outback Steakhouse.\n\nCost: $1
 0 per person to be paid upon arrival at Allstar Dance Studio\n\nWhat to we
 ar: Casual dress. Shoes- avoid flip-flop\, sandal or high heel with no str
 ap on the back.\n\nNo dancing experience necessary!\n\nRSVP: to Renee’ b
 y Monday\, August 19\, rbialek@jewishnaple...
DTSTART;TZID=America/New_York:20190821T183000
DTEND;TZID=America/New_York:20190821T210000
END:VEVENT
END:VCALENDAR
