BEGIN:VCALENDAR
PRODID:-//eluceo/ical//2.0/EN
VERSION:2.0
CALSCALE:GREGORIAN
BEGIN:VEVENT
UID:c7e22564d48a2790f097cd132387c1ec
DTSTAMP:20260423T160120Z
SUMMARY:Dance Class
DESCRIPTION:Jewish Federation of Greater Naples\nCommunity Calendar\nhttps:
 //jewishnaples.org/calendar/dance-class-1566925541\n\nLet’s dance!\nSwin
 g dancing class & party\nWednesday\, December 4 and Wednesday\, Jan. 29\n6
 :30-9:00 pm\n\nWho: All Jewish senior singles are invited.\nWhere: Allstar
  Dance Studio\, 4910 Tamiami Trail North\, Suite 118\, in the same plaza a
 s Outback Steakhouse.\n\nCost: $10 per person to be paid upon arrival at A
 llstar Dance Studio\nWhat to wear: Casual dress. Shoes- avoid flip-flop\, 
 sandal or high heel with no strap on the back.\n\nNo dancing experience ne
 cessary!\nCome to one or both classes....
DTSTART;TZID=America/New_York:20191204T183000
DTEND;TZID=America/New_York:20191204T210000
END:VEVENT
END:VCALENDAR
