BEGIN:VCALENDAR
PRODID:-//eluceo/ical//2.0/EN
VERSION:2.0
CALSCALE:GREGORIAN
BEGIN:VEVENT
UID:1660e38fb4eff59512931720af8d0805
DTSTAMP:20260422T155910Z
SUMMARY:JFGN CUSTOM CREATED NOTECARDS
DESCRIPTION:Jewish Federation of Greater Naples\nCommunity Calendar\nhttps:
 //jewishnaples.org/calendar/custom-created-notecards-1625596656\n\nPARTICI
 PANTS WILL RECEIVE A BEAUTIFUL BLANK NOTECARD AND MATCHING ENVELOPE WITH "
 TOOLS" TO CREATE THEIR OWN PERSONALIZED NOTECARD AND MATCHING ENVELOPE
DTSTART;TZID=America/New_York:20210730T130000
DTEND;TZID=America/New_York:20210730T143000
END:VEVENT
END:VCALENDAR
