BEGIN:VCALENDAR
PRODID:-//eluceo/ical//2.0/EN
VERSION:2.0
CALSCALE:GREGORIAN
BEGIN:VEVENT
UID:4b5064407a7060a41fb54784d485ae77
DTSTAMP:20260423T160842Z
SUMMARY:Craig Taubman
DESCRIPTION:Jewish Federation of Greater Naples\nCommunity Calendar\nhttps:
 //jewishnaples.org/calendar/craig-taubman-1542734527\n\nCraig Taubman will
  perform for the Jewish Federation of Greater Naples.
DTSTART;TZID=America/New_York:20190328T170000
DTEND;TZID=America/New_York:20190328T190000
END:VEVENT
END:VCALENDAR
