BEGIN:VCALENDAR
PRODID:-//eluceo/ical//2.0/EN
VERSION:2.0
CALSCALE:GREGORIAN
BEGIN:VEVENT
UID:c803d50717073dc002e97536747f7b9a
DTSTAMP:20260423T135220Z
SUMMARY:Conversations
DESCRIPTION:Jewish Federation of Greater Naples\nCommunity Calendar\nhttps:
 //jewishnaples.org/calendar/conversations-1759661310\n\n \n\nConnections\
 , Conversation\, & Coffee with Sue Abrams\, The Social Coach\n\nFriday\, N
 ovember  7\n\n10:00-11:30 am\n\nNina Iser Jewish Cultural Center\n\n \n\
 nWe warmly invite all grandparents of children with special needs to a uni
 que networking event. This is a wonderful opportunity to:\n\n\nConnect wit
 h other grandparents who share similar experiences\nShare stories and advi
 ce\nLearn about resources and support available\nBuild a supportive commun
 ity\n\n\n \n\nWhy Attend?\n\n\nSu...
DTSTART;TZID=America/New_York:20251107T100000
DTEND;TZID=America/New_York:20251107T113000
END:VEVENT
END:VCALENDAR
