BEGIN:VCALENDAR
PRODID:-//eluceo/ical//2.0/EN
VERSION:2.0
CALSCALE:GREGORIAN
BEGIN:VEVENT
UID:87c8d5694fb9ec1092e4cdb2396165a4
DTSTAMP:20260423T110936Z
SUMMARY:Conversation with Grandparents about Special Needs Grandchildren
DESCRIPTION:Jewish Federation of Greater Naples\nCommunity Calendar\nhttps:
 //jewishnaples.org/calendar/conversation-with-grandparents-about-special-n
 eeds-grandchildren-1732304126\n\nConnections\, Conversation\, & Coffee wit
 h Sue Abrams\, The Social Coach\n\nMonday\, January 6\n\n10:00-11:30 am\n\
 nNina Iser Jewish Cultural Center\n\n \n\n \n\nWe warmly invite all gran
 dparents of children with special needs to a unique networking event. This
  is a wonderful opportunity to:\n\nConnect with other grandparents who sha
 re similar experiences\nShare stories and advice\nLearn about resources an
 d support available\nBuild a supportive community\n\n \n\nWhy Attend?\n\n
 Support: Gain em...
DTSTART;TZID=America/New_York:20250106T100000
DTEND;TZID=America/New_York:20250106T113000
END:VEVENT
END:VCALENDAR
