BEGIN:VCALENDAR
PRODID:-//eluceo/ical//2.0/EN
VERSION:2.0
CALSCALE:GREGORIAN
BEGIN:VEVENT
UID:430bd15b1537d0425ff60d9e506e3bb7
DTSTAMP:20260423T210318Z
SUMMARY:Community Yom Ha'Atzmaut Concert
DESCRIPTION:Jewish Federation of Greater Naples\nCommunity Calendar\nhttps:
 //jewishnaples.org/calendar/community-yom-haatzmaut-concert\n\nPlease regi
 ster so we can plan accordingly\n\nThe concert is at 3:00 PM\n\n\n\n\n\n 
DTSTART;TZID=America/New_York:20250504T110000
DTEND;TZID=America/New_York:20250504T200000
END:VEVENT
END:VCALENDAR
