BEGIN:VCALENDAR
PRODID:-//eluceo/ical//2.0/EN
VERSION:2.0
CALSCALE:GREGORIAN
BEGIN:VEVENT
UID:4fbcd907e872e24b5459ecd5680e1b3d
DTSTAMP:20260420T073615Z
SUMMARY:Community Wide Yom HaShoah Program
DESCRIPTION:Jewish Federation of Greater Naples\nCommunity Calendar\nhttps:
 //jewishnaples.org/calendar/community-wide-yom-hashoah-program-1650997818\
 n\nCommunity Wide Yom HaShoah Program
DTSTART;TZID=America/New_York:20230417T190000
DTEND;TZID=America/New_York:20230417T201500
END:VEVENT
END:VCALENDAR
