BEGIN:VCALENDAR
PRODID:-//eluceo/ical//2.0/EN
VERSION:2.0
CALSCALE:GREGORIAN
BEGIN:VEVENT
UID:236640a4e31fc5ed911163968de8986f
DTSTAMP:20260422T231502Z
SUMMARY:Community Wide Yom HaShoah
DESCRIPTION:Jewish Federation of Greater Naples\nCommunity Calendar\nhttps:
 //jewishnaples.org/calendar/community-wide-yom-hashoah\n\nThe community is
  invited to attend Yom HaShoah Commemoration at Temple Shalom.
DTSTART;TZID=America/New_York:20180408T100000
DTEND;TZID=America/New_York:20180408T120000
END:VEVENT
END:VCALENDAR
