BEGIN:VCALENDAR
PRODID:-//eluceo/ical//2.0/EN
VERSION:2.0
CALSCALE:GREGORIAN
BEGIN:VEVENT
UID:8474cb2165be0445936f72a74afd9902
DTSTAMP:20260423T024649Z
SUMMARY:Community Wide Kristallnacht Program
DESCRIPTION:Jewish Federation of Greater Naples\nCommunity Calendar\nhttps:
 //jewishnaples.org/calendar/community-wide-kristallnacht-program-167035331
 8\n\nCommunity Wide Kristallnacht Program
DTSTART;TZID=America/New_York:20231105T143000
DTEND;TZID=America/New_York:20231105T163000
END:VEVENT
END:VCALENDAR
