BEGIN:VCALENDAR
PRODID:-//eluceo/ical//2.0/EN
VERSION:2.0
CALSCALE:GREGORIAN
BEGIN:VEVENT
UID:5b1346d031c5c529d6f65745d06fa39a
DTSTAMP:20260422T165633Z
SUMMARY:Community Wide Kristallnacht Commemoration Service
DESCRIPTION:Jewish Federation of Greater Naples\nCommunity Calendar\nhttps:
 //jewishnaples.org/calendar/community-wide-kristallnacht-commemoration-ser
 vice-1639499405\n\nCatholic Jewish Dialogue of the Jewish Federation of Gr
 eater Naples\nCommunity Wide Kristallnacht Commemoration Service
DTSTART;TZID=America/New_York:20221106T143000
DTEND;TZID=America/New_York:20221106T163000
END:VEVENT
END:VCALENDAR
