BEGIN:VCALENDAR
PRODID:-//eluceo/ical//2.0/EN
VERSION:2.0
CALSCALE:GREGORIAN
BEGIN:VEVENT
UID:ff4b23567872a411a35c9bfa7b4b3e11
DTSTAMP:20260423T072918Z
SUMMARY:Community Wide Chanukah Event
DESCRIPTION:Jewish Federation of Greater Naples\nCommunity Calendar\nhttps:
 //jewishnaples.org/calendar/community-wide-chanukah-event\n\nThe Jewish Fe
 deration of Collier County invites the entire community to:\n\nThe lightin
 g the menorah and Chanukah celebration at Mercato\n\n​Everyone is invite
 d to attend!\n\nFree admission.\n\nLatkes for sale!
DTSTART;TZID=America/New_York:20171213T170000
DTEND;TZID=America/New_York:20171213T183000
END:VEVENT
END:VCALENDAR
