BEGIN:VCALENDAR
PRODID:-//eluceo/ical//2.0/EN
VERSION:2.0
CALSCALE:GREGORIAN
BEGIN:VEVENT
UID:d30bfe10478a28908183a771398192ab
DTSTAMP:20260423T171624Z
SUMMARY:Community Kristallnacht Commemoration Service
DESCRIPTION:Jewish Federation of Greater Naples\nCommunity Calendar\nhttps:
 //jewishnaples.org/calendar/community-kristallnacht-commemoration-service-
 1734637313\n\n
DTSTART;TZID=America/New_York:20251109T143000
DTEND;TZID=America/New_York:20251109T153000
END:VEVENT
END:VCALENDAR
