BEGIN:VCALENDAR
PRODID:-//eluceo/ical//2.0/EN
VERSION:2.0
CALSCALE:GREGORIAN
BEGIN:VEVENT
UID:deeb46ff041d43b20ad342d4f992985d
DTSTAMP:20260421T155726Z
SUMMARY:Community Beach Clean Up
DESCRIPTION:Jewish Federation of Greater Naples\nCommunity Calendar\nhttps:
 //jewishnaples.org/calendar/community-beach-clean-up\n\nJoin BBYO\, JeWEL 
 Society\, MCA\, WCA\, PJ Library\, and PJ Our Way for a beach clean up!\n\
 nAll are welcome\, please register!\n\n 
DTSTART;TZID=America/New_York:20251124T100000
DTEND;TZID=America/New_York:20251124T110000
END:VEVENT
END:VCALENDAR
