BEGIN:VCALENDAR
PRODID:-//eluceo/ical//2.0/EN
VERSION:2.0
CALSCALE:GREGORIAN
BEGIN:VEVENT
UID:55f4005f13ebe4b0f3a7640e0ce5a9e0
DTSTAMP:20260424T104833Z
SUMMARY:Comedian Modi
DESCRIPTION:Jewish Federation of Greater Naples\nCommunity Calendar\nhttps:
 //jewishnaples.org/calendar/comedian-modi-1729710185\n\nVoted one of the t
 op 10 comedians in New York City by The Hollywood Reporter\, Modi is one o
 f the comedy circuit’s most sought after performers.\n\nCost: $180\, $72
 \, $54\n\nClick HERE for more information\n\n 
DTSTART;TZID=America/New_York:20250215T201500
DTEND;TZID=America/New_York:20250215T220000
END:VEVENT
END:VCALENDAR
