BEGIN:VCALENDAR
PRODID:-//eluceo/ical//2.0/EN
VERSION:2.0
CALSCALE:GREGORIAN
BEGIN:VEVENT
UID:a7c77bd7bef1adbed80141d3166528b7
DTSTAMP:20260423T051047Z
SUMMARY:Collier/Lee Chapter of Hadassah\, Knowledge & Nosh
DESCRIPTION:Jewish Federation of Greater Naples\nCommunity Calendar\nhttps:
 //jewishnaples.org/calendar/collierlee-chapter-of-hadassah-knowledge-nosh\
 n\nCollier/Lee Chapter of Hadassah\, Knowledge & Nosh\n\nThursday\, April 
 4\, 2:00-4:30\n\nPassover Cooking Demonstration
DTSTART;TZID=America/New_York:20190404T140000
DTEND;TZID=America/New_York:20190404T163000
END:VEVENT
END:VCALENDAR
