BEGIN:VCALENDAR
PRODID:-//eluceo/ical//2.0/EN
VERSION:2.0
CALSCALE:GREGORIAN
BEGIN:VEVENT
UID:6ff291adc0d11faebfb54b2f3eff020a
DTSTAMP:20260422T022548Z
SUMMARY:Collier/Lee Chapter of Hadassah Gala Event
DESCRIPTION:Jewish Federation of Greater Naples\nCommunity Calendar\nhttps:
 //jewishnaples.org/calendar/collierlee-chapter-of-hadassah-gala-event\n\nC
 ollier/Lee Chapter of Hadassah\n\nSunday\, April 7\, 5:00-9:00 pm\n\nHadas
 sah Gala Event
DTSTART;TZID=America/New_York:20190407T170000
DTEND;TZID=America/New_York:20190407T210000
END:VEVENT
END:VCALENDAR
