BEGIN:VCALENDAR
PRODID:-//eluceo/ical//2.0/EN
VERSION:2.0
CALSCALE:GREGORIAN
BEGIN:VEVENT
UID:ccf3da5078b0dbaa9b32ac11a857960b
DTSTAMP:20260422T004110Z
SUMMARY:Collier Lee Chapter of Hadassah Shabbat
DESCRIPTION:Jewish Federation of Greater Naples\nCommunity Calendar\nhttps:
 //jewishnaples.org/calendar/collier-lee-chapter-of-hadassah-shabbat-153054
 8428\n\nCollier/Lee Chapter of Hadassah- Friday March 15- Hadassah Shabbat
 - Temple Shalom\, 7:30 pm
DTSTART;TZID=America/New_York:20190315T193000
DTEND;TZID=America/New_York:20190315T213000
END:VEVENT
END:VCALENDAR
