BEGIN:VCALENDAR
PRODID:-//eluceo/ical//2.0/EN
VERSION:2.0
CALSCALE:GREGORIAN
BEGIN:VEVENT
UID:2712137f7ba5fd2fd4a4a2b08b1bb2d3
DTSTAMP:20260423T094559Z
SUMMARY:Collier Lee Chapter of Hadassah Board Meeting
DESCRIPTION:Jewish Federation of Greater Naples\nCommunity Calendar\nhttps:
 //jewishnaples.org/calendar/collier-lee-chapter-of-hadassah-board-meeting-
 1530548614\n\nCollier/Lee Chapter of Hadassah- Board Meeting-Monday\, Oct.
  15- Private Home- 1:00 pm
DTSTART;TZID=America/New_York:20181015T130000
DTEND;TZID=America/New_York:20181015T150000
END:VEVENT
END:VCALENDAR
