BEGIN:VCALENDAR
PRODID:-//eluceo/ical//2.0/EN
VERSION:2.0
CALSCALE:GREGORIAN
BEGIN:VEVENT
UID:65d2311ff93324754d3665c860dde668
DTSTAMP:20260421T061304Z
SUMMARY:Collier/Lee Chapter of Hadassah Board Meeting
DESCRIPTION:Jewish Federation of Greater Naples\nCommunity Calendar\nhttps:
 //jewishnaples.org/calendar/collier-lee-chapter-of-hadassah-board-meeting-
 1528303142\n\nHadassah Board Meeting at Temple Shalom
DTSTART;TZID=America/New_York:20190304T130000
DTEND;TZID=America/New_York:20190304T150000
END:VEVENT
END:VCALENDAR
