BEGIN:VCALENDAR
PRODID:-//eluceo/ical//2.0/EN
VERSION:2.0
CALSCALE:GREGORIAN
BEGIN:VEVENT
UID:be719a4b7228633f15b032e35e85ec85
DTSTAMP:20260422T224053Z
SUMMARY:Collier/Lee Chapter Hadassah Study Group
DESCRIPTION:Jewish Federation of Greater Naples\nCommunity Calendar\nhttps:
 //jewishnaples.org/calendar/collier-lee-chapter-hadassah-study-group-15283
 06228\n\nHadassah Study Group at Temple Shalom at 1PM
DTSTART;TZID=America/New_York:20180618T130000
DTEND;TZID=America/New_York:20180618T150000
END:VEVENT
END:VCALENDAR
