BEGIN:VCALENDAR
PRODID:-//eluceo/ical//2.0/EN
VERSION:2.0
CALSCALE:GREGORIAN
BEGIN:VEVENT
UID:7b3cd7c118f222c98210dbce5cb247d3
DTSTAMP:20260420T144708Z
SUMMARY:Collier/Lee Chapter Hadassah Study Group
DESCRIPTION:Jewish Federation of Greater Naples\nCommunity Calendar\nhttps:
 //jewishnaples.org/calendar/collier-lee-chapter-hadassah-study-group-15283
 05517\n\nHadassah Study Group at Temple Shalom at 1PM.
DTSTART;TZID=America/New_York:20181015T130000
DTEND;TZID=America/New_York:20181015T150000
END:VEVENT
END:VCALENDAR
