BEGIN:VCALENDAR
PRODID:-//eluceo/ical//2.0/EN
VERSION:2.0
CALSCALE:GREGORIAN
BEGIN:VEVENT
UID:8b009d611314a5d742f853a9206c6488
DTSTAMP:20260421T083551Z
SUMMARY:Closing at Noon
DESCRIPTION:Jewish Federation of Greater Naples\nCommunity Calendar\nhttps:
 //jewishnaples.org/calendar/closing-at-noon-1772366049\n\nJFGN Closing at 
 Noon
DTSTART;TZID=America/New_York:20260920T120000
DTEND;TZID=America/New_York:20260920T220000
END:VEVENT
END:VCALENDAR
