BEGIN:VCALENDAR
PRODID:-//eluceo/ical//2.0/EN
VERSION:2.0
CALSCALE:GREGORIAN
BEGIN:VEVENT
UID:02677f89e0256954e783320076e9fd05
DTSTAMP:20260421T083233Z
SUMMARY:Closed for Memorial Day
DESCRIPTION:Jewish Federation of Greater Naples\nCommunity Calendar\nhttps:
 //jewishnaples.org/calendar/closed-for-memorial-day-1772365435\n\nJFGN Clo
 sed for Memorial Day
DTSTART;TZID=America/New_York:20270530T050000
DTEND;TZID=America/New_York:20270531T220000
END:VEVENT
END:VCALENDAR
