BEGIN:VCALENDAR
PRODID:-//eluceo/ical//2.0/EN
VERSION:2.0
CALSCALE:GREGORIAN
BEGIN:VEVENT
UID:994227ca731b2c7cee2bf9ee8b0f9434
DTSTAMP:20260422T065128Z
SUMMARY:JFGN Close at noon for Yom Kippur
DESCRIPTION:Jewish Federation of Greater Naples\nCommunity Calendar\nhttps:
 //jewishnaples.org/calendar/close-at-noon-for-yom-kippur-1682085499\n\nNoo
 n closure for Yom Kippur
DTSTART;TZID=America/New_York:20241011T120000
DTEND;TZID=America/New_York:20241011T170000
END:VEVENT
END:VCALENDAR
