BEGIN:VCALENDAR
PRODID:-//eluceo/ical//2.0/EN
VERSION:2.0
CALSCALE:GREGORIAN
BEGIN:VEVENT
UID:00b230501ea9555d2119789cf9266abf
DTSTAMP:20260422T165202Z
SUMMARY:Close at Noon
DESCRIPTION:Jewish Federation of Greater Naples\nCommunity Calendar\nhttps:
 //jewishnaples.org/calendar/close-at-noon-1740223723\n\nJFGN Close at Noon
DTSTART;TZID=America/New_York:20251001T120000
DTEND;TZID=America/New_York:20251001T210000
END:VEVENT
END:VCALENDAR
