BEGIN:VCALENDAR
PRODID:-//eluceo/ical//2.0/EN
VERSION:2.0
CALSCALE:GREGORIAN
BEGIN:VEVENT
UID:f4806a962b3536b7b3acb96a3d267086
DTSTAMP:20260424T055124Z
SUMMARY:Close at Noon
DESCRIPTION:Jewish Federation of Greater Naples\nCommunity Calendar\nhttps:
 //jewishnaples.org/calendar/close-at-noon-1740221166\n\nClose at Noon
DTSTART;TZID=America/New_York:20250922T120000
DTEND;TZID=America/New_York:20250922T210000
END:VEVENT
END:VCALENDAR
