BEGIN:VCALENDAR
PRODID:-//eluceo/ical//2.0/EN
VERSION:2.0
CALSCALE:GREGORIAN
BEGIN:VEVENT
UID:4f0a8b983c0239bc337f6a41bca37bf2
DTSTAMP:20260420T134635Z
SUMMARY:CJD Walking God's Path Program
DESCRIPTION:Jewish Federation of Greater Naples\nCommunity Calendar\nhttps:
 //jewishnaples.org/calendar/cjd-walking-gods-path-program\n\nprogram will 
 be at Beth Tikvah
DTSTART;TZID=America/New_York:20161204T140000
DTEND;TZID=America/New_York:20161204T160000
END:VEVENT
END:VCALENDAR
