BEGIN:VCALENDAR
PRODID:-//eluceo/ical//2.0/EN
VERSION:2.0
CALSCALE:GREGORIAN
BEGIN:VEVENT
UID:7b6ea0742a8f211a96841fbb954874e7
DTSTAMP:20260424T054722Z
SUMMARY:CJD Speaker
DESCRIPTION:Jewish Federation of Greater Naples\nCommunity Calendar\nhttps:
 //jewishnaples.org/calendar/cjd-speaker-1620150984\n\nCatholic-Jewish Dial
 ogue\n\n \n\nThe “Pope’s Rabbi” is coming to town – Save the date
 \, Sunday\, April 3\, 2022 at 3:00 pm.\n\nBy: Richard Price\, Catholic-Jew
 ish Dialogue member\n\nThe Catholic-Jewish Dialogue of Collier County prou
 dly presents Rabbi Abraham Skorka who will describe his 25 year “deep an
 d sincere friendship” with Jorge Bergolio\, the former Archbishop of Bue
 nos Aires\, who is now Pope Francis.\n\nThis friendship\, which continues 
 to this day\, began a dialogue that becam...
DTSTART;TZID=America/New_York:20220403T140000
DTEND;TZID=America/New_York:20220403T160000
END:VEVENT
END:VCALENDAR
