BEGIN:VCALENDAR
PRODID:-//eluceo/ical//2.0/EN
VERSION:2.0
CALSCALE:GREGORIAN
BEGIN:VEVENT
UID:2f536ed6cfafd8d83a782bcc10fe8625
DTSTAMP:20260420T074855Z
SUMMARY:CJD Program The Sunflower
DESCRIPTION:Jewish Federation of Greater Naples\nCommunity Calendar\nhttps:
 //jewishnaples.org/calendar/cjd-program-the-sunflower\n\nCatholic Jewish D
 ialogue\n\nSunday\, March 2 at 2:30 PM\n\nLocation: Nina Iser Jewish Cultu
 ral Center\, Jewish Federation of Greater Naples\n\n \n\nReaders & Thinke
 rs Book Review. Read The Sunflower book in advance and come discuss toge
 ther over refreshments.\n\n \n\nThe Sunflower: On the Possibility and Lim
 its of Forgiveness\, by Simon Wiesenthal. \n\nA Nazi soldier on his death
 bed asks forgiveness from a Jew\, in this case Wiesenthal\, for horrendous
  atrocities he committed against Jews dur...
DTSTART;TZID=America/New_York:20250302T143000
DTEND;TZID=America/New_York:20250302T163000
END:VEVENT
END:VCALENDAR
