BEGIN:VCALENDAR
PRODID:-//eluceo/ical//2.0/EN
VERSION:2.0
CALSCALE:GREGORIAN
BEGIN:VEVENT
UID:affa034e253ac7a7c46cb6eca53b15ae
DTSTAMP:20260423T142355Z
SUMMARY:CJD program Jan 21
DESCRIPTION:Jewish Federation of Greater Naples\nCommunity Calendar\nhttps:
 //jewishnaples.org/calendar/cjd-program-jan-21-1684516605\n\nCatholic Jewi
 sh Dialogue  Program with Rabbi Gross and Fr. Ratzmann
DTSTART;TZID=America/New_York:20240121T143000
DTEND;TZID=America/New_York:20240121T153000
END:VEVENT
END:VCALENDAR
