BEGIN:VCALENDAR
PRODID:-//eluceo/ical//2.0/EN
VERSION:2.0
CALSCALE:GREGORIAN
BEGIN:VEVENT
UID:301951ba4d644abd8519d42635d8cd7e
DTSTAMP:20260423T113141Z
SUMMARY:CJD Program at 5:00 pm
DESCRIPTION:Jewish Federation of Greater Naples\nCommunity Calendar\nhttps:
 //jewishnaples.org/calendar/cjd-program-at-500-pm\n\nCatholic-Jewish Dialo
 gue\, 2 events both at 5:00 pm.\n\nFr. Tim Navin invites Jews to the Sund
 ay evening Mass at San Marco Catholic Church in Marco Island.\n\nFr. Bob K
 antor invites Jews to the Sunday evening Mass at St. Agnes Catholic Church
  in Naples.\n\nFor reservations or more information:\n\ncjdialogue@naples.
 net
DTSTART;TZID=America/New_York:20170108T170000
DTEND;TZID=America/New_York:20170108T170000
END:VEVENT
END:VCALENDAR
