BEGIN:VCALENDAR
PRODID:-//eluceo/ical//2.0/EN
VERSION:2.0
CALSCALE:GREGORIAN
BEGIN:VEVENT
UID:aeceeaba7992fcccaa8a010048d2c65f
DTSTAMP:20260424T055742Z
SUMMARY:CJD Program
DESCRIPTION:Jewish Federation of Greater Naples\nCommunity Calendar\nhttps:
 //jewishnaples.org/calendar/cjd-program-1715108354\n\nLocation: St. Willia
 ms Catholic Church\n\n \n\nThe Assisi Underground is a 1985 American-Ita
 lian film made for television\, written and directed by Alexander Ramati.
  It is an adaptation of his 1978 novel\,  The Assisi Underground: The Pr
 iest who Rescued Jews\, which is based on a true-life account by Father R
 ufino Niccacci of events surrounding the Assisi Network\, an effort to h
 ide 300 Jews in the town of Assisi\, Italy during World War II. \n\n 
 \n\nWatch the film together and stay f...
DTSTART;TZID=America/New_York:20250223T143000
DTEND;TZID=America/New_York:20250223T163000
END:VEVENT
END:VCALENDAR
