BEGIN:VCALENDAR
PRODID:-//eluceo/ical//2.0/EN
VERSION:2.0
CALSCALE:GREGORIAN
BEGIN:VEVENT
UID:b6fe245168fb3a2896c8efbb135d6175
DTSTAMP:20260423T042037Z
SUMMARY:CJD Program
DESCRIPTION:Jewish Federation of Greater Naples\nCommunity Calendar\nhttps:
 //jewishnaples.org/calendar/cjd-program-1526654841\n\nCJD Program
DTSTART;TZID=America/New_York:20190310T143000
DTEND;TZID=America/New_York:20190310T163000
END:VEVENT
END:VCALENDAR
