BEGIN:VCALENDAR
PRODID:-//eluceo/ical//2.0/EN
VERSION:2.0
CALSCALE:GREGORIAN
BEGIN:VEVENT
UID:b1617d72a9045f17a3572daddc29a18d
DTSTAMP:20260423T191939Z
SUMMARY:CJD Program
DESCRIPTION:Jewish Federation of Greater Naples\nCommunity Calendar\nhttps:
 //jewishnaples.org/calendar/cjd-program\n\nCatholic-Jewish Dialogue\n\nWal
 king God’s Paths Part 4\, “Season of Freedom\, Season of\nRebirth” f
 ilm and discussion.\nPart four of a series of six short videos designed to
  discuss the\ndifferences and commonalities of Christian and Jewish\nrelig
 ions. Commentary by a rabbi and priest following the film\,\ndialogue disc
 ussion and refreshments.\n\nplease RSVP to: cjdialogue@naples.net
DTSTART;TZID=America/New_York:20170430T140000
DTEND;TZID=America/New_York:20170430T160000
END:VEVENT
END:VCALENDAR
