BEGIN:VCALENDAR
PRODID:-//eluceo/ical//2.0/EN
VERSION:2.0
CALSCALE:GREGORIAN
BEGIN:VEVENT
UID:65b51b98f19202266af4974077bc208b
DTSTAMP:20260422T044255Z
SUMMARY:CJD meetings
DESCRIPTION:Jewish Federation of Greater Naples\nCommunity Calendar\nhttps:
 //jewishnaples.org/calendar/cjd-meetings-1528397388\n\nCatholic- Jewish Di
 alogue Committee Meetings
DTSTART;TZID=America/New_York:20180807T133000
DTEND;TZID=America/New_York:20180807T153000
END:VEVENT
END:VCALENDAR
