BEGIN:VCALENDAR
PRODID:-//eluceo/ical//2.0/EN
VERSION:2.0
CALSCALE:GREGORIAN
BEGIN:VEVENT
UID:cc31265bede4e829aed6a0940fe8187d
DTSTAMP:20260424T041110Z
SUMMARY:CJD Kristallnacht Program
DESCRIPTION:Jewish Federation of Greater Naples\nCommunity Calendar\nhttps:
 //jewishnaples.org/calendar/cjd-kristallnacht-program\n\nKristallnacht Com
 memoration Program\n\n2:30 PM
DTSTART;TZID=America/New_York:20191117T143000
DTEND;TZID=America/New_York:20191117T163000
END:VEVENT
END:VCALENDAR
