BEGIN:VCALENDAR
PRODID:-//eluceo/ical//2.0/EN
VERSION:2.0
CALSCALE:GREGORIAN
BEGIN:VEVENT
UID:f0d02a43dacaae1ad6ea4de000865e00
DTSTAMP:20260423T035021Z
SUMMARY:CJD Kristallnacht
DESCRIPTION:Jewish Federation of Greater Naples\nCommunity Calendar\nhttps:
 //jewishnaples.org/calendar/cjd-kristallnacht\n\n \n\nKristallnacht Comme
 moration\n\n \n\nSunday\, Nov 5\n\n2:30 pm\n\nNEW LOCATION\nSt. William C
 atholic Church\n\n601 Seagate Dr.\n\nNaples\n\n \n\nEveryone is welcomed 
 to attend this free event hosted by the Catholic- Jewish Dialogue of Colli
 er County\n\n \n\nRSVP: cjdialogue@naples.net\n\n \n\nhttps://jewishnap
 les.org/get-involved/cjd\n\n 
DTSTART;TZID=America/New_York:20171105T143000
DTEND;TZID=America/New_York:20171105T153000
END:VEVENT
END:VCALENDAR
