BEGIN:VCALENDAR
PRODID:-//eluceo/ical//2.0/EN
VERSION:2.0
CALSCALE:GREGORIAN
BEGIN:VEVENT
UID:8252f21869e2e2625c885a5a336bf9e0
DTSTAMP:20260424T004120Z
SUMMARY:CJD Interfaith Service
DESCRIPTION:Jewish Federation of Greater Naples\nCommunity Calendar\nhttps:
 //jewishnaples.org/calendar/cjd-interfaith-service\n\nCJD \n\nInterfaith 
 Weekend\n\nService at 5:00 PM
DTSTART;TZID=America/New_York:20190120T170000
DTEND;TZID=America/New_York:20190120T190000
END:VEVENT
END:VCALENDAR
