BEGIN:VCALENDAR
PRODID:-//eluceo/ical//2.0/EN
VERSION:2.0
CALSCALE:GREGORIAN
BEGIN:VEVENT
UID:09037fd7cc03239472f50faabd8015e4
DTSTAMP:20260420T175127Z
SUMMARY:CJD Interfaith Program
DESCRIPTION:Jewish Federation of Greater Naples\nCommunity Calendar\nhttps:
 //jewishnaples.org/calendar/cjd-interfaith-program\n\nCatholic-Jewish Dial
 ogue: Interfaith Marriage Discussion\n\nBy: Donna Poach and Dean Garfinkel
 \, CJD members\n\nWe invite you to join us for a discussion on Sunday\, Ma
 rch 17 at 2:30 pm on interfaith marriage: exploring the opportunities for 
 cultural and spiritual growth.  Can it actually strengthen religious beli
 efs and observance for both faiths?\n\nClergy from both the Catholic and J
 ewish faiths will be joining us to explore the viewpoints of their respect
 ive religions.  We are honored to ...
DTSTART;TZID=America/New_York:20240317T143000
DTEND;TZID=America/New_York:20240317T160000
END:VEVENT
END:VCALENDAR
