BEGIN:VCALENDAR
PRODID:-//eluceo/ical//2.0/EN
VERSION:2.0
CALSCALE:GREGORIAN
BEGIN:VEVENT
UID:d447558ee9bd1f8a53f93a99b077c40c
DTSTAMP:20260424T071841Z
SUMMARY:CJD Hold March 5
DESCRIPTION:Jewish Federation of Greater Naples\nCommunity Calendar\nhttps:
 //jewishnaples.org/calendar/cjd-hold-march-5\n\nCatholic Jewish Dialogue
DTSTART;TZID=America/New_York:20230305T143000
DTEND;TZID=America/New_York:20230305T143000
END:VEVENT
END:VCALENDAR
