BEGIN:VCALENDAR
PRODID:-//eluceo/ical//2.0/EN
VERSION:2.0
CALSCALE:GREGORIAN
BEGIN:VEVENT
UID:5cfdccec8cc389f7e8c26d1fa9359638
DTSTAMP:20260423T023759Z
SUMMARY:CJD Film Program
DESCRIPTION:Jewish Federation of Greater Naples\nCommunity Calendar\nhttps:
 //jewishnaples.org/calendar/cjd-film-program-1526652751\n\nCJD Film Progra
 m
DTSTART;TZID=America/New_York:20190224T143000
DTEND;TZID=America/New_York:20190224T163000
END:VEVENT
END:VCALENDAR
