BEGIN:VCALENDAR
PRODID:-//eluceo/ical//2.0/EN
VERSION:2.0
CALSCALE:GREGORIAN
BEGIN:VEVENT
UID:281010e712f7254b7245d823c6367aa8
DTSTAMP:20260422T224647Z
SUMMARY:CJD event with the Youth
DESCRIPTION:Jewish Federation of Greater Naples\nCommunity Calendar\nhttps:
 //jewishnaples.org/calendar/cjd-event-with-the-youth-1588984683\n\nCatholi
 c-Jewish Dialogue Youth Program
DTSTART;TZID=America/New_York:20210110T180000
DTEND;TZID=America/New_York:20210110T200000
END:VEVENT
END:VCALENDAR
