BEGIN:VCALENDAR
PRODID:-//eluceo/ical//2.0/EN
VERSION:2.0
CALSCALE:GREGORIAN
BEGIN:VEVENT
UID:4177f832361fce738069eeb617fc1c69
DTSTAMP:20260420T121107Z
SUMMARY:CJD Event
DESCRIPTION:Jewish Federation of Greater Naples\nCommunity Calendar\nhttps:
 //jewishnaples.org/calendar/cjd-event-1560869065\n\nCatholic- Jewish Dialo
 gue Event
DTSTART;TZID=America/New_York:20200223T143000
DTEND;TZID=America/New_York:20200223T163000
END:VEVENT
END:VCALENDAR
