BEGIN:VCALENDAR
PRODID:-//eluceo/ical//2.0/EN
VERSION:2.0
CALSCALE:GREGORIAN
BEGIN:VEVENT
UID:c44cf8c2e5cab4ea12c8a47595951b60
DTSTAMP:20260420T162651Z
SUMMARY:CJD Event
DESCRIPTION:Jewish Federation of Greater Naples\nCommunity Calendar\nhttps:
 //jewishnaples.org/calendar/cjd-event-1526658728\n\nCJD Event
DTSTART;TZID=America/New_York:20190331T143000
DTEND;TZID=America/New_York:20190331T163000
END:VEVENT
END:VCALENDAR
