BEGIN:VCALENDAR
PRODID:-//eluceo/ical//2.0/EN
VERSION:2.0
CALSCALE:GREGORIAN
BEGIN:VEVENT
UID:63c80b1b910404763fb15efd1dd00fa9
DTSTAMP:20260423T054444Z
SUMMARY:CJD event
DESCRIPTION:Jewish Federation of Greater Naples\nCommunity Calendar\nhttps:
 //jewishnaples.org/calendar/cjd-event\n\nCatholic-Jewish Dialogue
DTSTART;TZID=America/New_York:20181209T143000
DTEND;TZID=America/New_York:20181209T163000
END:VEVENT
END:VCALENDAR
