BEGIN:VCALENDAR
PRODID:-//eluceo/ical//2.0/EN
VERSION:2.0
CALSCALE:GREGORIAN
BEGIN:VEVENT
UID:083062f6b5606014b0364b3531d18393
DTSTAMP:20260423T142829Z
SUMMARY:CJD community event
DESCRIPTION:Jewish Federation of Greater Naples\nCommunity Calendar\nhttps:
 //jewishnaples.org/calendar/cjd-community-event-1559931763\n\nContact Cath
 olic-Jewish Dialogue for more information.
DTSTART;TZID=America/New_York:20191208T143000
DTEND;TZID=America/New_York:20191208T160000
END:VEVENT
END:VCALENDAR
