BEGIN:VCALENDAR
PRODID:-//eluceo/ical//2.0/EN
VERSION:2.0
CALSCALE:GREGORIAN
BEGIN:VEVENT
UID:cf40285e4b28bbc668d59c545e9a7f3b
DTSTAMP:20260422T082913Z
SUMMARY:CJD Catholic and Jewish Teen Program
DESCRIPTION:Jewish Federation of Greater Naples\nCommunity Calendar\nhttps:
 //jewishnaples.org/calendar/cjd-catholic-and-jewish-teen-program\n\nCathol
 ic-Jewish Dialogue
DTSTART;TZID=America/New_York:20161204T180000
DTEND;TZID=America/New_York:20161204T180000
END:VEVENT
END:VCALENDAR
