BEGIN:VCALENDAR
PRODID:-//eluceo/ical//2.0/EN
VERSION:2.0
CALSCALE:GREGORIAN
BEGIN:VEVENT
UID:edf1170af9fc1e7b567872630062c562
DTSTAMP:20260423T065749Z
SUMMARY:CJD\, BBYO teen program
DESCRIPTION:Jewish Federation of Greater Naples\nCommunity Calendar\nhttps:
 //jewishnaples.org/calendar/cjd-bbyo-teen-program\n\nCJD\, BBYO teen progr
 am
DTSTART;TZID=America/New_York:20190113T180000
DTEND;TZID=America/New_York:20190113T200000
END:VEVENT
END:VCALENDAR
